BEGIN:VCALENDAR
VERSION:2.0
PRODID:-//Glad Badges e.V. - ECPv6.15.20//NONSGML v1.0//EN
CALSCALE:GREGORIAN
METHOD:PUBLISH
X-ORIGINAL-URL:https://glad-badges.de
X-WR-CALDESC:Veranstaltungen für Glad Badges e.V.
REFRESH-INTERVAL;VALUE=DURATION:PT1H
X-Robots-Tag:noindex
X-PUBLISHED-TTL:PT1H
BEGIN:VTIMEZONE
TZID:Europe/Berlin
BEGIN:DAYLIGHT
TZOFFSETFROM:+0100
TZOFFSETTO:+0200
TZNAME:CEST
DTSTART:20240331T010000
END:DAYLIGHT
BEGIN:STANDARD
TZOFFSETFROM:+0200
TZOFFSETTO:+0100
TZNAME:CET
DTSTART:20241027T010000
END:STANDARD
BEGIN:DAYLIGHT
TZOFFSETFROM:+0100
TZOFFSETTO:+0200
TZNAME:CEST
DTSTART:20250330T010000
END:DAYLIGHT
BEGIN:STANDARD
TZOFFSETFROM:+0200
TZOFFSETTO:+0100
TZNAME:CET
DTSTART:20251026T010000
END:STANDARD
BEGIN:DAYLIGHT
TZOFFSETFROM:+0100
TZOFFSETTO:+0200
TZNAME:CEST
DTSTART:20260329T010000
END:DAYLIGHT
BEGIN:STANDARD
TZOFFSETFROM:+0200
TZOFFSETTO:+0100
TZNAME:CET
DTSTART:20261025T010000
END:STANDARD
END:VTIMEZONE
BEGIN:VEVENT
DTSTART;TZID=Europe/Berlin:20250403T190000
DTEND;TZID=Europe/Berlin:20250403T210000
DTSTAMP:20260419T185306
CREATED:20250305T125722Z
LAST-MODIFIED:20250305T125722Z
UID:1376688-1743706800-1743714000@glad-badges.de
SUMMARY:MS Clubabend mit Corinne
DESCRIPTION:
URL:https://glad-badges.de/event/ms-clubabend-mit-rene-9/
LOCATION:Städt. Haus des Sports\, Aachener Str. 418\, Mönchengladbach\, NRW\, 41069\, Germany
CATEGORIES:Mainstream
ORGANIZER;CN="Glad Badges":MAILTO:glad-badges@gmx.de
END:VEVENT
BEGIN:VEVENT
DTSTART;TZID=Europe/Berlin:20250410T190000
DTEND;TZID=Europe/Berlin:20250410T210000
DTSTAMP:20260419T185306
CREATED:20250303T004142Z
LAST-MODIFIED:20250303T005615Z
UID:1376614-1744311600-1744318800@glad-badges.de
SUMMARY:MS Clubabend mit Rene
DESCRIPTION:
URL:https://glad-badges.de/event/ms-clubabend-mit-rene-5/
LOCATION:Städt. Haus des Sports\, Aachener Str. 418\, Mönchengladbach\, NRW\, 41069\, Germany
CATEGORIES:Mainstream
ORGANIZER;CN="Glad Badges":MAILTO:glad-badges@gmx.de
END:VEVENT
BEGIN:VEVENT
DTSTART;TZID=Europe/Berlin:20250411T190000
DTEND;TZID=Europe/Berlin:20250411T210000
DTSTAMP:20260419T185306
CREATED:20250429T162345Z
LAST-MODIFIED:20250429T162345Z
UID:1377365-1744398000-1744405200@glad-badges.de
SUMMARY:Plus 4 Fun mit Ralf Denda
DESCRIPTION:
URL:https://glad-badges.de/event/plus-4-fun-mit-ralf-denda/
LOCATION:Städt. Haus des Sports\, Aachener Str. 418\, Mönchengladbach\, NRW\, 41069\, Germany
CATEGORIES:Plus
ORGANIZER;CN="Glad Badges":MAILTO:glad-badges@gmx.de
END:VEVENT
BEGIN:VEVENT
DTSTART;TZID=Europe/Berlin:20250417T190000
DTEND;TZID=Europe/Berlin:20250417T210000
DTSTAMP:20260419T185306
CREATED:20250303T004142Z
LAST-MODIFIED:20250303T005608Z
UID:1376615-1744916400-1744923600@glad-badges.de
SUMMARY:MS Clubabend mit Rene
DESCRIPTION:
URL:https://glad-badges.de/event/ms-clubabend-mit-rene-4/
LOCATION:Städt. Haus des Sports\, Aachener Str. 418\, Mönchengladbach\, NRW\, 41069\, Germany
CATEGORIES:Mainstream
ORGANIZER;CN="Glad Badges":MAILTO:glad-badges@gmx.de
END:VEVENT
BEGIN:VEVENT
DTSTART;TZID=Europe/Berlin:20250421T120000
DTEND;TZID=Europe/Berlin:20250421T210000
DTSTAMP:20260419T185306
CREATED:20250303T004142Z
LAST-MODIFIED:20250309T210920Z
UID:1376616-1745236800-1745269200@glad-badges.de
SUMMARY:Osterdance 2025
DESCRIPTION:Für unser 17.  Osterspecial  konnten wir Paddy Böhnke engagieren. Wir freuen uns sehr auf dieses gemeinsame Erlebnis. \nWeitere Details findet ihr im PDF. \nAnmelden könnt ihr euch \n\ntelefonisch02166 14 78 509bei Brigitte Altenberg\nper Mailglad-badges@gmx.de\n\n			\n			\n				\n				\n				\n				\n				\n				\n				\n				\n				\n				Flyer-Osterspecial-25
URL:https://glad-badges.de/event/osterdance-2025/
LOCATION:Krahnendonkhalle Neuwerk\, Gathersweg 55\, Mönchengladbach\, 41066\, Germany
CATEGORIES:Special
ORGANIZER;CN="Glad Badges":MAILTO:glad-badges@gmx.de
END:VEVENT
BEGIN:VEVENT
DTSTART;TZID=Europe/Berlin:20250424T190000
DTEND;TZID=Europe/Berlin:20250424T210000
DTSTAMP:20260419T185306
CREATED:20250303T004142Z
LAST-MODIFIED:20250303T005540Z
UID:1376617-1745521200-1745528400@glad-badges.de
SUMMARY:MS Clubabend mit Natalie Lakermann
DESCRIPTION:
URL:https://glad-badges.de/event/ms-clubabend-mit-natalie-lakermann-2/
LOCATION:Städt. Haus des Sports\, Aachener Str. 418\, Mönchengladbach\, NRW\, 41069\, Germany
CATEGORIES:Mainstream
ORGANIZER;CN="Glad Badges":MAILTO:glad-badges@gmx.de
END:VEVENT
BEGIN:VEVENT
DTSTART;TZID=Europe/Berlin:20250425T190000
DTEND;TZID=Europe/Berlin:20250425T210000
DTSTAMP:20260419T185306
CREATED:20250303T004142Z
LAST-MODIFIED:20250428T161704Z
UID:1376618-1745607600-1745614800@glad-badges.de
SUMMARY:Plus 4 Fun mit Rene
DESCRIPTION:
URL:https://glad-badges.de/event/plus-4-fun-mit-rene-5/
LOCATION:Städt. Haus des Sports\, Aachener Str. 418\, Mönchengladbach\, NRW\, 41069\, Germany
CATEGORIES:Plus
ORGANIZER;CN="Glad Badges":MAILTO:glad-badges@gmx.de
END:VEVENT
END:VCALENDAR