BEGIN:VCALENDAR
VERSION:2.0
PRODID:-//Glad Badges e.V. - ECPv6.15.20//NONSGML v1.0//EN
CALSCALE:GREGORIAN
METHOD:PUBLISH
X-ORIGINAL-URL:https://glad-badges.de
X-WR-CALDESC:Veranstaltungen für Glad Badges e.V.
REFRESH-INTERVAL;VALUE=DURATION:PT1H
X-Robots-Tag:noindex
X-PUBLISHED-TTL:PT1H
BEGIN:VTIMEZONE
TZID:Europe/Berlin
BEGIN:DAYLIGHT
TZOFFSETFROM:+0100
TZOFFSETTO:+0200
TZNAME:CEST
DTSTART:20240331T010000
END:DAYLIGHT
BEGIN:STANDARD
TZOFFSETFROM:+0200
TZOFFSETTO:+0100
TZNAME:CET
DTSTART:20241027T010000
END:STANDARD
BEGIN:DAYLIGHT
TZOFFSETFROM:+0100
TZOFFSETTO:+0200
TZNAME:CEST
DTSTART:20250330T010000
END:DAYLIGHT
BEGIN:STANDARD
TZOFFSETFROM:+0200
TZOFFSETTO:+0100
TZNAME:CET
DTSTART:20251026T010000
END:STANDARD
BEGIN:DAYLIGHT
TZOFFSETFROM:+0100
TZOFFSETTO:+0200
TZNAME:CEST
DTSTART:20260329T010000
END:DAYLIGHT
BEGIN:STANDARD
TZOFFSETFROM:+0200
TZOFFSETTO:+0100
TZNAME:CET
DTSTART:20261025T010000
END:STANDARD
END:VTIMEZONE
BEGIN:VEVENT
DTSTART;TZID=Europe/Berlin:20250204T190000
DTEND;TZID=Europe/Berlin:20250204T210000
DTSTAMP:20260419T221303
CREATED:20250202T210313Z
LAST-MODIFIED:20250303T005342Z
UID:1376269-1738695600-1738702800@glad-badges.de
SUMMARY:Mainstream DBD mit Oliver Küster
DESCRIPTION:
URL:https://glad-badges.de/event/mainstream-dbd-mit-oliver-kuester/
LOCATION:Familienzentrum Mummerland\, Ottostr. 2\, Mönchengladbach\, 41236\, Germany
CATEGORIES:DBD
ORGANIZER;CN="Glad Badges":MAILTO:glad-badges@gmx.de
END:VEVENT
BEGIN:VEVENT
DTSTART;TZID=Europe/Berlin:20250206T190000
DTEND;TZID=Europe/Berlin:20250206T210000
DTSTAMP:20260419T221303
CREATED:20250202T001636Z
LAST-MODIFIED:20250303T005329Z
UID:1376155-1738868400-1738875600@glad-badges.de
SUMMARY:MS Clubabend mit Mike
DESCRIPTION:
URL:https://glad-badges.de/event/ms-clubabend-mit-mike/
LOCATION:Städt. Haus des Sports\, Aachener Str. 418\, Mönchengladbach\, NRW\, 41069\, Germany
CATEGORIES:Mainstream
ORGANIZER;CN="Glad Badges":MAILTO:glad-badges@gmx.de
END:VEVENT
BEGIN:VEVENT
DTSTART;TZID=Europe/Berlin:20250207T190000
DTEND;TZID=Europe/Berlin:20250207T210000
DTSTAMP:20260419T221303
CREATED:20250202T004713Z
LAST-MODIFIED:20250428T161843Z
UID:1376163-1738954800-1738962000@glad-badges.de
SUMMARY:Plus 4 Fun mit Osz
DESCRIPTION:
URL:https://glad-badges.de/event/plus-4-fun-mit-osz/
LOCATION:Städt. Haus des Sports\, Aachener Str. 418\, Mönchengladbach\, NRW\, 41069\, Germany
CATEGORIES:Plus
ORGANIZER;CN="Glad Badges":MAILTO:glad-badges@gmx.de
END:VEVENT
BEGIN:VEVENT
DTSTART;TZID=Europe/Berlin:20250213T190000
DTEND;TZID=Europe/Berlin:20250213T210000
DTSTAMP:20260419T221303
CREATED:20250202T002332Z
LAST-MODIFIED:20250303T005302Z
UID:1376157-1739473200-1739480400@glad-badges.de
SUMMARY:MS Clubabend mit Rene
DESCRIPTION:
URL:https://glad-badges.de/event/clubabend-mit-rene/
LOCATION:Städt. Haus des Sports\, Aachener Str. 418\, Mönchengladbach\, NRW\, 41069\, Germany
CATEGORIES:Mainstream
ORGANIZER;CN="Glad Badges":MAILTO:glad-badges@gmx.de
END:VEVENT
BEGIN:VEVENT
DTSTART;TZID=Europe/Berlin:20250220T190000
DTEND;TZID=Europe/Berlin:20250220T210000
DTSTAMP:20260419T221303
CREATED:20250202T004713Z
LAST-MODIFIED:20250303T005248Z
UID:1376161-1740078000-1740085200@glad-badges.de
SUMMARY:MS Clubabend mit Osz
DESCRIPTION:
URL:https://glad-badges.de/event/ms-clubabend-mit-osz/
LOCATION:Städt. Haus des Sports\, Aachener Str. 418\, Mönchengladbach\, NRW\, 41069\, Germany
CATEGORIES:Mainstream
ORGANIZER;CN="Glad Badges":MAILTO:glad-badges@gmx.de
END:VEVENT
BEGIN:VEVENT
DTSTART;TZID=Europe/Berlin:20250221T190000
DTEND;TZID=Europe/Berlin:20250221T210000
DTSTAMP:20260419T221303
CREATED:20250202T004713Z
LAST-MODIFIED:20250428T161843Z
UID:1376164-1740164400-1740171600@glad-badges.de
SUMMARY:Plus 4 Fun mit Rene
DESCRIPTION:
URL:https://glad-badges.de/event/plus-4-fun-mit-rene/
LOCATION:Städt. Haus des Sports\, Aachener Str. 418\, Mönchengladbach\, NRW\, 41069\, Germany
CATEGORIES:Plus
ORGANIZER;CN="Glad Badges":MAILTO:glad-badges@gmx.de
END:VEVENT
BEGIN:VEVENT
DTSTART;TZID=Europe/Berlin:20250227T190000
DTEND;TZID=Europe/Berlin:20250227T210000
DTSTAMP:20260419T221303
CREATED:20250202T004713Z
LAST-MODIFIED:20250303T005226Z
UID:1376162-1740682800-1740690000@glad-badges.de
SUMMARY:MS Clubabend mit Oliver Küster
DESCRIPTION:
URL:https://glad-badges.de/event/ms-clubabend-mit-oliver-kuester/
LOCATION:Städt. Haus des Sports\, Aachener Str. 418\, Mönchengladbach\, NRW\, 41069\, Germany
CATEGORIES:Mainstream
ORGANIZER;CN="Glad Badges":MAILTO:glad-badges@gmx.de
END:VEVENT
END:VCALENDAR